BEGIN:VCALENDAR
VERSION:2.0
PRODID:-//Plentylife - ECPv5.0.1//NONSGML v1.0//EN
CALSCALE:GREGORIAN
METHOD:PUBLISH
X-WR-CALNAME:Plentylife
X-ORIGINAL-URL:https://plentylife.org.au
X-WR-CALDESC:Events for Plentylife
BEGIN:VTIMEZONE
TZID:Europe/Paris
BEGIN:DAYLIGHT
TZOFFSETFROM:+0100
TZOFFSETTO:+0200
TZNAME:CEST
DTSTART:20200329T010000
END:DAYLIGHT
BEGIN:STANDARD
TZOFFSETFROM:+0200
TZOFFSETTO:+0100
TZNAME:CET
DTSTART:20201025T010000
END:STANDARD
END:VTIMEZONE
BEGIN:VEVENT
DTSTART;TZID=Europe/Paris:20200202T100000
DTEND;TZID=Europe/Paris:20200202T123000
DTSTAMP:20200228T081243
CREATED:20161217T051116Z
LAST-MODIFIED:20200122T014906Z
UID:1320-1580637600-1580646600@plentylife.org.au
SUMMARY:First Service of 2020
DESCRIPTION:Plentylife will hold its first formal service following its January Sabbath Month\, at 10am on Sunday January 29th 2017. Gathering at the Hazel Glen College Child and Family Centre\, we’ll worship together and hear stories of God’s goodness and grace. We’d love to have you join us! \n
URL:https://plentylife.org.au/event/first-service-of-2020/
LOCATION:Hazel Glen Child and Family Centre\,  65 Eminence Boulevard (corner of Painted Hill Road) Doreen
CATEGORIES:Sunday Service
ORGANIZER;CN="Craig%20Ogden":MAILTO:craig@plentylife.org.au
END:VEVENT
BEGIN:VEVENT
DTSTART;TZID=Europe/Paris:20200209T100000
DTEND;TZID=Europe/Paris:20200209T123000
DTSTAMP:20200228T081243
CREATED:20170228T222932Z
LAST-MODIFIED:20200122T015205Z
UID:1482-1581242400-1581251400@plentylife.org.au
SUMMARY:Missional Communities
DESCRIPTION:This week we will be meeting in our missional communities at various locations in the Plenty Valley \n
URL:https://plentylife.org.au/event/missional-communities-4/
LOCATION:Various gatherings throughout the Plenty Valley
CATEGORIES:Missional Communities
END:VEVENT
BEGIN:VEVENT
DTSTART;TZID=Europe/Paris:20200215T100000
DTEND;TZID=Europe/Paris:20200215T160000
DTSTAMP:20200228T081243
CREATED:20200212T022616Z
LAST-MODIFIED:20200212T024843Z
UID:2478-1581760800-1581782400@plentylife.org.au
SUMMARY:Funfields youth outing
DESCRIPTION:Funfields youth outing. Cost to be confirmed. Contact Craig for more info. \nSee current youth flyer for all events \n
URL:https://plentylife.org.au/event/funfields-outing/
CATEGORIES:Youth Outings
ORGANIZER;CN="Craig%20Ogden":MAILTO:craig@plentylife.org.au
END:VEVENT
BEGIN:VEVENT
DTSTART;TZID=Europe/Paris:20200216T100000
DTEND;TZID=Europe/Paris:20200216T123000
DTSTAMP:20200228T081243
CREATED:20170228T222816Z
LAST-MODIFIED:20200122T015707Z
UID:1481-1581847200-1581856200@plentylife.org.au
SUMMARY:Sunday Service
DESCRIPTION:We’ll be gathering at the Hazel Glen College Child and Family Centre\, we’ll worship together and hear stories of God’s goodness and grace. We’d love to have you join us! \n
URL:https://plentylife.org.au/event/sunday-service-4/
LOCATION:Hazel Glen Child and Family Centre\,  65 Eminence Boulevard (corner of Painted Hill Road) Doreen
CATEGORIES:Sunday Service
ORGANIZER;CN="Craig%20Ogden":MAILTO:craig@plentylife.org.au
END:VEVENT
BEGIN:VEVENT
DTSTART;TZID=Europe/Paris:20200221T190000
DTEND;TZID=Europe/Paris:20200221T210000
DTSTAMP:20200228T081243
CREATED:20200212T023212Z
LAST-MODIFIED:20200212T023212Z
UID:2480-1582311600-1582318800@plentylife.org.au
SUMMARY:Edendale farm youth outing
DESCRIPTION:Edendale farm youth outing. Contact Craig for more info. \nSee current youth flyer for all events \n
URL:https://plentylife.org.au/event/edendale-farm-youth-outing/
CATEGORIES:Youth Outings
ORGANIZER;CN="Craig%20Ogden":MAILTO:craig@plentylife.org.au
END:VEVENT
BEGIN:VEVENT
DTSTART;TZID=Europe/Paris:20200222T090000
DTEND;TZID=Europe/Paris:20200222T170000
DTSTAMP:20200228T081243
CREATED:20200212T020010Z
LAST-MODIFIED:20200212T020548Z
UID:2459-1582362000-1582390800@plentylife.org.au
SUMMARY:First Aid Training
DESCRIPTION:First Aid Training: 9am-5pm\, Saturday 22nd February\, Hazel Glen Child and Family Centre.\nContact Anne for more info.\n  \n
URL:https://plentylife.org.au/event/first-aid-training/
LOCATION:Hazel Glen Child and Family Centre\, 65 Eminence Boulevard (corner of Painted Hill Road)\, Doreen\, Australia
CATEGORIES:Training
ORGANIZER;CN="Anne":MAILTO:admin@plentylife.org.au
END:VEVENT
BEGIN:VEVENT
DTSTART;TZID=Europe/Paris:20200223T100000
DTEND;TZID=Europe/Paris:20200223T123000
DTSTAMP:20200228T081243
CREATED:20170228T223207Z
LAST-MODIFIED:20200212T025958Z
UID:1486-1582452000-1582461000@plentylife.org.au
SUMMARY:Missional Communities
DESCRIPTION:This week we will be meeting in our missional communities at various locations in the Plenty Valley \n
URL:https://plentylife.org.au/event/missional-communities-5/
LOCATION:Various gatherings throughout the Plenty Valley
CATEGORIES:Missional Communities
ORGANIZER;CN="Craig%20Ogden":MAILTO:craig@plentylife.org.au
END:VEVENT
BEGIN:VEVENT
DTSTART;TZID=Europe/Paris:20200223T103000
DTEND;TZID=Europe/Paris:20200223T133000
DTSTAMP:20200228T081243
CREATED:20200212T020948Z
LAST-MODIFIED:20200212T021157Z
UID:2465-1582453800-1582464600@plentylife.org.au
SUMMARY:Pink Stumps Cricket and Family Fun Day
DESCRIPTION:Pink Stumps Cricket and Family Fun Day (raising funds for the McGrath Foundation) \nContact Glen for more info.\n
URL:https://plentylife.org.au/event/pink-stumps-cricket-and-family-fun-day/
LOCATION:Doreen Recreation Reserve\, Cnr Bridge Inn and Yan Yean Road\, Doreen\, vic\, Australia
CATEGORIES:Outings
END:VEVENT
BEGIN:VEVENT
DTSTART;TZID=Europe/Paris:20200225T183000
DTEND;TZID=Europe/Paris:20200225T203000
DTSTAMP:20200228T081243
CREATED:20200212T021352Z
LAST-MODIFIED:20200212T021352Z
UID:2470-1582655400-1582662600@plentylife.org.au
SUMMARY:Shrove (Pancake) Tuesday
DESCRIPTION:Shrove (Pancake) Tuesday: 6:30pm\, Tuesday 25th February\, the Peterson Clarks’ home\, contact Michelle for more: 0416 024 566\n
URL:https://plentylife.org.au/event/shrove-pancake-tuesday/
CATEGORIES:Easter
END:VEVENT
BEGIN:VEVENT
DTSTART;TZID=Europe/Paris:20200228T150000
DTEND;TZID=Europe/Paris:20200228T221500
DTSTAMP:20200228T081243
CREATED:20200212T021744Z
LAST-MODIFIED:20200212T021744Z
UID:2472-1582902000-1582928100@plentylife.org.au
SUMMARY:Plenty Valley Christian College’s Relay for Life
DESCRIPTION:Plenty Valley Christian College’s Relay for Life Cancer Council fundraiser. \nContact Kirrily for more info: 0437 817 446\n
URL:https://plentylife.org.au/event/plenty-valley-christian-colleges-relay-for-life/
END:VEVENT
END:VCALENDAR